Workbook

Sheet Website Schedule
A1: Knighton Park Fixture Nights
A2: A clean, website-ready view of every home fixture, grouped by playing night
A3: ="All "&COUNTA(A8:A153)&" fixtures are listed below across "&COUNTA(_xlfn.UNIQUE(A8:A153))&" date groups. Filter by date, night or division, then copy the visible rows to your website. The final column shows how many fixtures are taking place on the same night." -> All 146 fixtures are listed below across 53 date groups. Filter by date, night or division, then copy the visible rows to your website. The final column shows how many fixtures are taking place on the same night.
A6: ALL FIXTURES BY NIGHT
A7: Date | B7: Night | C7: Division | D7: Home | E7: Away | F7: Website Fixture | G7: Venue | H7: Fixtures This Night
A8: =IF(fixtures!A2="Unschdeuled","Unscheduled",fixtures!A2) -> Unscheduled | B8: =IF(ISNUMBER(A8),TEXT(A8,"dddd"),"Unscheduled") -> Unscheduled | C8: =fixtures!C2 -> Division 1 | D8: =fixtures!D2 -> Knighton Park VI | E8: =fixtures!G2 -> Loughborough Unicorn | F8: =D8&" v "&E8 -> Knighton Park VI v Loughborough Unicorn | G8: =fixtures!H2 -> Knighton Park Table Tennis Club | H8: =COUNTIF($A$8:$A$153,$A8) -> 1
A9: =IF(fixtures!A3="Unschdeuled","Unscheduled",fixtures!A3) -> 46289 | B9: =IF(ISNUMBER(A9),TEXT(A9,"dddd"),"Unscheduled") -> Thursday | C9: =fixtures!C3 -> Division 1 | D9: =fixtures!D3 -> Knighton Park I | E9: =fixtures!G3 -> Abbots Road I | F9: =D9&" v "&E9 -> Knighton Park I v Abbots Road I | G9: =fixtures!H3 -> Knighton Park Table Tennis Club | H9: =COUNTIF($A$8:$A$153,$A9) -> 3
A10: =IF(fixtures!A4="Unschdeuled","Unscheduled",fixtures!A4) -> 46289 | B10: =IF(ISNUMBER(A10),TEXT(A10,"dddd"),"Unscheduled") -> Thursday | C10: =fixtures!C4 -> Division 2 | D10: =fixtures!D4 -> Knighton Park IX | E10: =fixtures!G4 -> Abbots Road II | F10: =D10&" v "&E10 -> Knighton Park IX v Abbots Road II | G10: =fixtures!H4 -> Knighton Park Table Tennis Club | H10: =COUNTIF($A$8:$A$153,$A10) -> 3
A11: =IF(fixtures!A5="Unschdeuled","Unscheduled",fixtures!A5) -> 46289 | B11: =IF(ISNUMBER(A11),TEXT(A11,"dddd"),"Unscheduled") -> Thursday | C11: =fixtures!C5 -> Division 4 | D11: =fixtures!D5 -> Knighton Park XIII | E11: =fixtures!G5 -> Knighton Park XIV | F11: =D11&" v "&E11 -> Knighton Park XIII v Knighton Park XIV | G11: =fixtures!H5 -> Knighton Park Table Tennis Club | H11: =COUNTIF($A$8:$A$153,$A11) -> 3
A12: =IF(fixtures!A6="Unschdeuled","Unscheduled",fixtures!A6) -> 46293 | B12: =IF(ISNUMBER(A12),TEXT(A12,"dddd"),"Unscheduled") -> Monday | C12: =fixtures!C6 -> Division 3 | D12: =fixtures!D6 -> Knighton Park XII | E12: =fixtures!G6 -> Desford Village III | F12: =D12&" v "&E12 -> Knighton Park XII v Desford Village III | G12: =fixtures!H6 -> Knighton Park Table Tennis Club | H12: =COUNTIF($A$8:$A$153,$A12) -> 1
A13: =IF(fixtures!A7="Unschdeuled","Unscheduled",fixtures!A7) -> 46294 | B13: =IF(ISNUMBER(A13),TEXT(A13,"dddd"),"Unscheduled") -> Tuesday | C13: =fixtures!C7 -> Division 3 | D13: =fixtures!D7 -> Knighton Park X | E13: =fixtures!G7 -> Regent Sports I | F13: =D13&" v "&E13 -> Knighton Park X v Regent Sports I | G13: =fixtures!H7 -> Knighton Park Table Tennis Club | H13: =COUNTIF($A$8:$A$153,$A13) -> 4
A14: =IF(fixtures!A8="Unschdeuled","Unscheduled",fixtures!A8) -> 46294 | B14: =IF(ISNUMBER(A14),TEXT(A14,"dddd"),"Unscheduled") -> Tuesday | C14: =fixtures!C8 -> Division 1 | D14: =fixtures!D8 -> Knighton Park III | E14: =fixtures!G8 -> Ajax Wolvey | F14: =D14&" v "&E14 -> Knighton Park III v Ajax Wolvey | G14: =fixtures!H8 -> Knighton Park Table Tennis Club | H14: =COUNTIF($A$8:$A$153,$A14) -> 4
A15: =IF(fixtures!A9="Unschdeuled","Unscheduled",fixtures!A9) -> 46294 | B15: =IF(ISNUMBER(A15),TEXT(A15,"dddd"),"Unscheduled") -> Tuesday | C15: =fixtures!C9 -> Division 1 | D15: =fixtures!D9 -> Knighton Park IV | E15: =fixtures!G9 -> Loughborough Unicorn | F15: =D15&" v "&E15 -> Knighton Park IV v Loughborough Unicorn | G15: =fixtures!H9 -> Knighton Park Table Tennis Club | H15: =COUNTIF($A$8:$A$153,$A15) -> 4
A16: =IF(fixtures!A10="Unschdeuled","Unscheduled",fixtures!A10) -> 46294 | B16: =IF(ISNUMBER(A16),TEXT(A16,"dddd"),"Unscheduled") -> Tuesday | C16: =fixtures!C10 -> Division 1 | D16: =fixtures!D10 -> Knighton Park VI | E16: =fixtures!G10 -> Knighton Park V | F16: =D16&" v "&E16 -> Knighton Park VI v Knighton Park V | G16: =fixtures!H10 -> Knighton Park Table Tennis Club | H16: =COUNTIF($A$8:$A$153,$A16) -> 4
A17: =IF(fixtures!A11="Unschdeuled","Unscheduled",fixtures!A11) -> 46296 | B17: =IF(ISNUMBER(A17),TEXT(A17,"dddd"),"Unscheduled") -> Thursday | C17: =fixtures!C11 -> Division 1 | D17: =fixtures!D11 -> Knighton Park I | E17: =fixtures!G11 -> Desford Village I | F17: =D17&" v "&E17 -> Knighton Park I v Desford Village I | G17: =fixtures!H11 -> Knighton Park Table Tennis Club | H17: =COUNTIF($A$8:$A$153,$A17) -> 3
A18: =IF(fixtures!A12="Unschdeuled","Unscheduled",fixtures!A12) -> 46296 | B18: =IF(ISNUMBER(A18),TEXT(A18,"dddd"),"Unscheduled") -> Thursday | C18: =fixtures!C12 -> Division 2 | D18: =fixtures!D12 -> Knighton Park IX | E18: =fixtures!G12 -> Unicorn II | F18: =D18&" v "&E18 -> Knighton Park IX v Unicorn II | G18: =fixtures!H12 -> Knighton Park Table Tennis Club | H18: =COUNTIF($A$8:$A$153,$A18) -> 3
A19: =IF(fixtures!A13="Unschdeuled","Unscheduled",fixtures!A13) -> 46296 | B19: =IF(ISNUMBER(A19),TEXT(A19,"dddd"),"Unscheduled") -> Thursday | C19: =fixtures!C13 -> Division 4 | D19: =fixtures!D13 -> Knighton Park XIII | E19: =fixtures!G13 -> Desford Village IV | F19: =D19&" v "&E19 -> Knighton Park XIII v Desford Village IV | G19: =fixtures!H13 -> Knighton Park Table Tennis Club | H19: =COUNTIF($A$8:$A$153,$A19) -> 3
... A153: =IF(fixtures!A147="Unschdeuled","Unscheduled",fixtures!A147) -> 46471 | B153: =IF(ISNUMBER(A153),TEXT(A153,"dddd"),"Unscheduled") -> Thursday | C153: =fixtures!C147 -> Division 5 | D153: =fixtures!D147 -> Knighton Park XV | E153: =fixtures!G147 -> Evington | F153: =D153&" v "&E153 -> Knighton Park XV v Evington | G153: =fixtures!H147 -> Knighton Park Table Tennis Club | H153: =COUNTIF($A$8:$A$153,$A153) -> 2

Sheet fixtures
A1: Date | B1: Time | C1: Division | D1: Home | E1: HomeScore | F1: AwayScore | G1: Away | H1: Venue
A2: Unschdeuled | B2: TBD | C2: Division 1 | D2: Knighton Park VI | G2: Loughborough Unicorn | H2: Knighton Park Table Tennis Club
A3: 46289 | B3: TBD | C3: Division 1 | D3: Knighton Park I | G3: Abbots Road I | H3: Knighton Park Table Tennis Club
A4: 46289 | B4: TBD | C4: Division 2 | D4: Knighton Park IX | G4: Abbots Road II | H4: Knighton Park Table Tennis Club
A5: 46289 | B5: TBD | C5: Division 4 | D5: Knighton Park XIII | G5: Knighton Park XIV | H5: Knighton Park Table Tennis Club
A6: 46293 | B6: TBD | C6: Division 3 | D6: Knighton Park XII | G6: Desford Village III | H6: Knighton Park Table Tennis Club
A7: 46294 | B7: TBD | C7: Division 3 | D7: Knighton Park X | G7: Regent Sports I | H7: Knighton Park Table Tennis Club
A8: 46294 | B8: TBD | C8: Division 1 | D8: Knighton Park III | G8: Ajax Wolvey | H8: Knighton Park Table Tennis Club
A9: 46294 | B9: TBD | C9: Division 1 | D9: Knighton Park IV | G9: Loughborough Unicorn | H9: Knighton Park Table Tennis Club
A10: 46294 | B10: TBD | C10: Division 1 | D10: Knighton Park VI | G10: Knighton Park V | H10: Knighton Park Table Tennis Club
A11: 46296 | B11: TBD | C11: Division 1 | D11: Knighton Park I | G11: Desford Village I | H11: Knighton Park Table Tennis Club
A12: 46296 | B12: TBD | C12: Division 2 | D12: Knighton Park IX | G12: Unicorn II | H12: Knighton Park Table Tennis Club
A13: 46296 | B13: TBD | C13: Division 4 | D13: Knighton Park XIII | G13: Desford Village IV | H13: Knighton Park Table Tennis Club
A14: 46301 | B14: TBD | C14: Division 2 | D14: Knighton Park VIII | G14: Winstanley Wizards I | H14: Knighton Park Table Tennis Club
... A147: 46471 | B147: TBD | C147: Division 5 | D147: Knighton Park XV | G147: Evington | H147: Knighton Park Table Tennis Club
